BEGIN:VCALENDAR
VERSION:2.0
PRODID:-//Contratero//ES
CALSCALE:GREGORIAN
METHOD:PUBLISH
BEGIN:VEVENT
UID:PA 14/22@contratero.es
DTSTAMP:20260421T165739Z
DTSTART:20220830T235959
DTEND:20220831T005959
SUMMARY:Cierre: Contratación\, por lotes\, del mantenimiento de las 
DESCRIPTION:Contratación\, por lotes\, del mantenimiento de las licencias del sistema de gestión corporativa SAP y de las licencias SAGE y EDITRAN de Cuidad de las Artes y de las Ciencias SAU\\n\\nOrganismo: Dirección General de la Ciudad de las Artes y de las Ciencias S.A.\\n\\nVer en Contratero: https://contratero.es/contracts/PA 14/22
URL:https://contratero.es/contracts/PA 14/22
STATUS:CONFIRMED
BEGIN:VALARM
TRIGGER:-P1D
ACTION:DISPLAY
DESCRIPTION:Recordatorio: Contratación\, por lotes\, del m
END:VALARM
END:VEVENT
END:VCALENDAR